View In:
ArcGIS JavaScript
ArcGIS Online Map Viewer
ArcGIS Earth
Service Description: Cementery_Aerial
Name: Cementery_Aerial
Description:
Single Fused Map Cache: false
Extent:
XMin: 2473993.772825379
YMin: 6826819.6842351835
XMax: 2477471.2372500245
YMax: 6829001.911910433
Spatial Reference: PROJCS["NAD_1983_Texas_North_Central_ftUS",GEOGCS["GCS_North_American_1983",DATUM["D_North_American_1983",SPHEROID["GRS_1980",6378137.0,298.257222101]],PRIMEM["Greenwich",0.0],UNIT["Degree",0.0174532925199433]],PROJECTION["Lambert_Conformal_Conic"],PARAMETER["False_Easting",1968500.0],PARAMETER["False_Northing",6561666.667],PARAMETER["Central_Meridian",-98.5],PARAMETER["Standard_Parallel_1",32.1333333333333],PARAMETER["Standard_Parallel_2",33.9666666666667],PARAMETER["Latitude_Of_Origin",31.6666666666667],UNIT["Foot_US",0.3048006096012192]]
Initial Extent:
XMin: 2473993.772825379
YMin: 6826819.6842351835
XMax: 2477471.2372500245
YMax: 6829001.911910433
Spatial Reference: PROJCS["NAD_1983_Texas_North_Central_ftUS",GEOGCS["GCS_North_American_1983",DATUM["D_North_American_1983",SPHEROID["GRS_1980",6378137.0,298.257222101]],PRIMEM["Greenwich",0.0],UNIT["Degree",0.0174532925199433]],PROJECTION["Lambert_Conformal_Conic"],PARAMETER["False_Easting",1968500.0],PARAMETER["False_Northing",6561666.667],PARAMETER["Central_Meridian",-98.5],PARAMETER["Standard_Parallel_1",32.1333333333333],PARAMETER["Standard_Parallel_2",33.9666666666667],PARAMETER["Latitude_Of_Origin",31.6666666666667],UNIT["Foot_US",0.3048006096012192]]
Full Extent:
XMin: 2473993.772825379
YMin: 6826819.6842351835
XMax: 2477471.2372500245
YMax: 6829001.911910433
Spatial Reference: PROJCS["NAD_1983_Texas_North_Central_ftUS",GEOGCS["GCS_North_American_1983",DATUM["D_North_American_1983",SPHEROID["GRS_1980",6378137.0,298.257222101]],PRIMEM["Greenwich",0.0],UNIT["Degree",0.0174532925199433]],PROJECTION["Lambert_Conformal_Conic"],PARAMETER["False_Easting",1968500.0],PARAMETER["False_Northing",6561666.667],PARAMETER["Central_Meridian",-98.5],PARAMETER["Standard_Parallel_1",32.1333333333333],PARAMETER["Standard_Parallel_2",33.9666666666667],PARAMETER["Latitude_Of_Origin",31.6666666666667],UNIT["Foot_US",0.3048006096012192]]
Pixel Size X: 0.2499974424619359
Pixel Size Y: 0.24999744246188568
Band Count: 3
Pixel Type: U8
RasterFunction Infos: {"rasterFunctionInfos": [{
"name": "None",
"description": "",
"help": ""
}]}
Mensuration Capabilities: Basic
Inspection Capabilities:
Has Histograms: true
Has Colormap: false
Has Multi Dimensions : false
Rendering Rule:
Min Scale: 0
Max Scale: 0
Resampling: false
Copyright Text:
Service Data Type: esriImageServiceDataTypeRGB
Min Values: 0, 0, 0
Max Values: 254, 254, 254
Mean Values: 125.92666772016, 120.00071113771, 90.413302788766
Standard Deviation Values: 42.911156823409, 40.517412844866, 37.788898870598
Object ID Field:
Fields:
None
Default Mosaic Method: Center
Allowed Mosaic Methods:
SortField:
SortValue: null
Mosaic Operator: First
Default Compression Quality: 75
Default Resampling Method: Bilinear
Max Record Count: null
Max Image Height: 4100
Max Image Width: 15000
Max Download Image Count: null
Max Mosaic Image Count: null
Allow Raster Function: true
Allow Copy: true
Allow Analysis: true
Allow Compute TiePoints: false
Supports Statistics: false
Supports Advanced Queries: false
Use StandardizedQueries: true
Raster Type Infos:
Name: Raster Dataset
Description: Supports all ArcGIS Raster Datasets
Help:
Has Raster Attribute Table: false
Edit Fields Info: null
Ownership Based AccessControl For Rasters: null
Child Resources:
Info
Histograms
Statistics
Key Properties
Legend
Raster Function Infos
Supported Operations:
Export Image
Identify
Measure
Compute Histograms
Compute Statistics Histograms
Get Samples
Compute Class Statistics
Query Boundary
Compute Pixel Location
Compute Angles
Validate
Project